Workbook

Sheet 2020 год
A2: Информация о лимитах предоставления финансовой поддержки и минимальной площади жилых помещений подлежащих расселению по этапу 2020 года
E5: =F7/36368 -> 49868.001 | F5: 50000
D6: =E7/F7*100 -> 16.474244 | E6: =1514822664.91 -> 1.5148227e+09 | F6: =F7/C12 -> 3687.641 | G6: =G7/(C12-748.8-501.1) -> 3641.5235
E7: =298776800 -> 298776800 | F7: =E6+E7 -> 1.8135995e+09 | G7: =F7-D39 -> 1.7863671e+09
A8: № п/п | B8: Наименование муниципального образования | C8: Всего площадь аварийных МКД до 01.01.17 | E8: Минимальная площадь жилых помещений подлежащих расселению по этапу 2020 года | F8: Всего | G8: в том числе:
G9: средства Фонда | H9: средства областного бюджета
E11: кв.м. | F11: рублей | G11: рублей | H11: рублей
B12: Всего: | C12: =SUM(C13:C39) -> 491804.78 | D12: =SUM(D13:D39) -> 1.8135995e+09 | E12: =SUM(E13:E39) -> 49955.968 | F12: =SUM(F13:F39) -> 1.8135995e+09 | G12: =SUM(G13:G39) -> 1.5152241e+09 | H12: =SUM(H13:H39) -> 2.9837534e+08
A13: 1 | B13: г.Анжеро-Судженск | C13: 44963.35 | D13: =ROUND((C13*3637.807458),2) -> 1.6356801e+08 | E13: =D13/36300 -> 4506.0058 | F13: =G13+H13 -> 1.6356801e+08 | G13: =ROUND((D13*0.84),2) -> 1.3739713e+08 | H13: =D13-G13 -> 26170882
A14: 2 | B14: г.Белово | C14: 3448.6 | D14: =ROUND((C14*3637.807458),2) -> 12545343 | E14: =D14/36300 -> 345.60173 | F14: =G14+H14 -> 12545343 | G14: =ROUND((D14*0.84),2) -> 10538088 | H14: =D14-G14 -> 2007254.9
A15: 3 | B15: г.Калтан | C15: 13516.61 | D15: =ROUND((C15*3637.807458),2) -> 49170825 | E15: =D15/36300 -> 1354.5682 | F15: =G15+H15 -> 49170825 | G15: =ROUND((D15*0.84),2) -> 41303493 | H15: =D15-G15 -> 7867331.9
A16: 4 | B16: г.Кемерово | C16: 37934.9 | D16: =ROUND((C16*3637.807458),2) -> 1.3799986e+08 | E16: =D16/36300 -> 3801.6491 | F16: =G16+H16 -> 1.3799986e+08 | G16: =ROUND((D16*0.84),2) -> 1.1591988e+08 | H16: =D16-G16 -> 22079978
A17: 5 | B17: г.Киселевск | C17: 31886.65 | D17: =ROUND((C17*3637.807458),2) -> 1.1599749e+08 | E17: =D17/36300 -> 3195.5232 | F17: =G17+H17 -> 1.1599749e+08 | G17: =ROUND((D17*0.84),2) -> 97437894 | H17: =D17-G17 -> 18559599
A18: 6 | B18: Краснобродский | C18: 1683.8 | D18: =ROUND((C18*3637.807458),2) -> 6125340.2 | E18: =D18/36300 -> 168.74215 | F18: =G18+H18 -> 6125340.2 | G18: =ROUND((D18*0.84),2) -> 5145285.8 | H18: =D18-G18 -> 980054.43
A19: 7 | B19: г.Ленинск-Кузнецкий | C19: 68460.7 | D19: =ROUND((C19*3637.807458),2) -> 2.4904685e+08 | E19: =D19/36300 -> 6860.7946 | F19: =G19+H19 -> 2.4904685e+08 | G19: =ROUND((D19*0.84),2) -> 2.0919935e+08 | H19: =D19-G19 -> 39847495
A20: 8 | B20: г.Междуреченск | C20: 1666.77 | D20: =ROUND((501.1*36368),2) -> 18224005 | E20: 501.1 | F20: =G20+H20 -> 18224005 | G20: =ROUND((D20*0.84),2) -> 15308164 | H20: =D20-G20 -> 2915840.8
A21: 9 | B21: г.Мыски | C21: 4590.6 | D21: =ROUND((C21*3637.807458),2) -> 16699719 | E21: =D21/36300 -> 460.04735 | F21: =G21+H21 -> 16699719 | G21: =ROUND((D21*0.84),2) -> 14027764 | H21: =D21-G21 -> 2671955
A22: 10 | B22: г.Новокузнецк | C22: 87542.01 | D22: =ROUND((C22*3637.807458),2)-20300000 -> 2.9816098e+08 | E22: =D22/36300 -> 8213.801 | F22: =G22+H22 -> 2.9816098e+08 | G22: =ROUND((D22*0.8125),2) -> 2.4225579e+08 | H22: =D22-G22 -> 55905183
A23: 11 | B23: г.Осинники | C23: 14317.3 | D23: =ROUND((C23*3637.807458),2) -> 52083581 | E23: =D23/36300 -> 1434.8094 | F23: =G23+H23 -> 52083581 | G23: =ROUND((D23*0.84),2) -> 43750208 | H23: =D23-G23 -> 8333372.9
A24: 12 | B24: г.Полысаево | C24: 8260.2 | D24: =ROUND((C24*3637.807458),2) -> 30049017 | E24: =D24/36300 -> 827.79662 | F24: =G24+H24 -> 30049017 | G24: =ROUND((D24*0.84),2) -> 25241174 | H24: =D24-G24 -> 4807842.8
A25: 13 | B25: г.Прокопьевск | C25: 25086.13 | D25: =ROUND((C25*3637.807458),2) -> 91258511 | E25: =D25/36300 -> 2514.0086 | F25: =G25+H25 -> 91258511 | G25: =ROUND((D25*0.84),2) -> 76657149 | H25: =D25-G25 -> 14601362
A26: 14 | B26: г.Тайга | C26: 3800.1 | D26: =ROUND((C26*3637.807458),2) -> 13824032 | E26: =D26/36300 -> 380.82733 | F26: =G26+H26 -> 13824032 | G26: =ROUND((D26*0.84),2) -> 11612187 | H26: =D26-G26 -> 2211845.1
A27: 15 | B27: г.Юрга | C27: 97717.8 | D27: 310681717 | E27: =D27/36300 -> 8558.725 | F27: =G27+H27 -> 310681717 | G27: =ROUND((D27*0.84),2) -> 2.6097264e+08 | H27: =D27-G27 -> 49709075
A28: 16 | B28: Гурьевский район | C28: 4796.35 | D28: =ROUND((C28*3637.807458),2) -> 17448198 | E28: =D28/36300 -> 480.66661 | F28: =G28+H28 -> 17448198 | G28: =ROUND((D28*0.84),2) -> 14656486 | H28: =D28-G28 -> 2791711.7
A29: 17 | B29: Кемеровский район | C29: 2246.67 | D29: =ROUND((C29*3637.807458),2) -> 8172952.9 | E29: =D29/36300 -> 225.15022 | F29: =G29+H29 -> 8172952.9 | G29: =ROUND((D29*0.84),2) -> 6865280.4 | H29: =D29-G29 -> 1307672.5
A30: 18 | B30: Ленинск-Кузнецкий район | C30: 866.8 | D30: =E30*36360 -> 15482088 | E30: 425.8 | F30: =G30+H30 -> 15482088 | G30: =ROUND((D30*0.84),2) -> 13004954 | H30: =D30-G30 -> 2477134.1
A31: 19 | B31: Мариинский район | C31: 4396.2 | D31: =ROUND((C31*3637.807458),2) -> 15992529 | E31: =D31/36300 -> 440.56554 | F31: =G31+H31 -> 15992529 | G31: =ROUND((D31*0.84),2) -> 13433724 | H31: =D31-G31 -> 2558804.7
A32: 20 | B32: Новокузнецкий район | C32: 2015.5 | D32: =ROUND((C32*3637.807458),2) -> 7332000.9 | E32: =D32/36300 -> 201.9835 | F32: =G32+H32 -> 7332000.9 | G32: =ROUND((D32*0.84),2) -> 6158880.8 | H32: =D32-G32 -> 1173120.1
A33: 21 | B33: Промышленновский район | C33: 2717.16 | D33: =ROUND((C33*3637.807458),2) -> 9884504.9 | E33: =D33/36300 -> 272.30041 | F33: =G33+H33 -> 9884504.9 | G33: =ROUND((D33*0.84),2) -> 8302984.1 | H33: =D33-G33 -> 1581520.8
A34: 22 | B34: Таштагольский район | C34: 15257.4 | D34: =ROUND((C34*3637.807458),2) -> 55503484 | E34: =D34/36300 -> 1529.0216 | F34: =G34+H34 -> 55503484 | G34: =ROUND((D34*0.84),2) -> 46622926 | H34: =D34-G34 -> 8880557.4
A35: 23 | B35: Топкинский район | C35: 8229.99 | D35: =ROUND((C35*3637.807458),2) -> 29939119 | E35: =D35/36300 -> 824.76912 | F35: =G35+H35 -> 29939119 | G35: =ROUND((D35*0.84),2) -> 25148860 | H35: =D35-G35 -> 4790259
A36: 24 | B36: Тяжинский район | C36: 965.6 | D36: =ROUND((C36*3637.807458),2) -> 3512666.9 | E36: =D36/36300 -> 96.767683 | F36: =G36+H36 -> 3512666.9 | G36: =ROUND((D36*0.84),2) -> 2950640.2 | H36: =D36-G36 -> 562026.7
A37: 25 | B37: Юргинский район | C37: 1670.35 | D37: =E37*36368 -> 46683783 | E37: 1283.65 | F37: =G37+H37 -> 46683783 | G37: =ROUND((D37*0.84),2) -> 39214378 | H37: =D37-G37 -> 7469405.3
A38: 26 | B38: Яйский район | C38: 3018.44 | D38: =ROUND((C38*3637.807458),2) -> 10980504 | E38: =D38/36300 -> 302.49321 | F38: =G38+H38 -> 10980504 | G38: =ROUND((D38*0.84),2) -> 9223623 | H38: =D38-G38 -> 1756880.6
A39: 27 | B39: Яшкинский район | C39: 748.8 | D39: =748.8*36368 -> 27232358 | E39: 748.8 | F39: =G39+H39 -> 27232358 | G39: =ROUND((D39*0.84),2) -> 22875181 | H39: =D39-G39 -> 4357177.3

Sheet 2021
A2: Информация о лимитах предоставления финансовой поддержки и минимальной площади жилых помещений подлежащих расселению по этапу 2021 года
D5: 4611.3353 | E5: =F7/36368 -> 49229.855 | F5: 50900
D6: =E7/F7*100 -> 18.753112 | E6: =1514822664.91 -> 1.5148227e+09 | F6: =F7/C7 -> 4611.3353 | G6: =(E6+E7)/36368 -> 50884.755
C7: =C12-C18-C20-C35 -> 388258.77 | E7: 335754100 | F7: =E6+E7-D18-D20-D35 -> 1.7903914e+09
A8: № п/п | B8: Наименование муниципального образования | C8: Всего площадь аварийных МКД до 01.01.17 | E8: Минимальная площадь жилых помещений подлежащих расселению по этапу 2020 года | F8: Всего | G8: в том числе:
G9: средства Фонда | H9: средства областного бюджета
E11: кв.м. | F11: рублей | G11: рублей | H11: рублей
B12: Всего: | C12: =SUM(C13:C36) -> 390667.67 | D12: =SUM(D13:D36) -> 1.8505768e+09 | E12: =SUM(E13:E36) -> 50976.976 | F12: =SUM(F13:F36) -> 1.8505768e+09 | G12: =SUM(G13:G36) -> 1.5456332e+09 | H12: =SUM(H13:H36) -> 3.0494356e+08
A13: 1 | B13: г.Анжеро-Судженск | C13: =44963.35-'2020 год'!E13-3825.7 -> 36631.644 | D13: =ROUND((C13*4611.33525),2) -> 1.6892079e+08 | E13: =D13/36300 -> 4653.4654 | F13: =G13+H13 -> 1.6892079e+08 | G13: =ROUND((D13*0.84),2) -> 1.4189347e+08 | H13: =D13-G13 -> 27027327
A14: 2 | B14: г.Белово | C14: =3448.6-'2020 год'!E14-821.2 -> 2281.7983 | D14: =ROUND((C14*4611.33525),2) -> 10522137 | E14: =D14/36300 -> 289.86603 | F14: =G14+H14 -> 10522137 | G14: =ROUND((D14*0.84),2) -> 8838594.9 | H14: =D14-G14 -> 1683541.9
A15: 3 | B15: г.Калтан | C15: =13516.61-'2020 год'!E15-1158 -> 11004.042 | D15: =ROUND((C15*4611.33525),2) -> 50743326 | E15: =D15/36300 -> 1397.8878 | F15: =G15+H15 -> 50743326 | G15: =ROUND((D15*0.84),2) -> 42624394 | H15: =D15-G15 -> 8118932.2
A16: 4 | B16: г.Кемерово | C16: =37934.9-'2020 год'!E16-3445.4 -> 30687.851 | D16: =ROUND((C16*4611.33525),2) -> 1.4151197e+08 | E16: =D16/36300 -> 3898.4013 | F16: =G16+H16 -> 1.4151197e+08 | G16: =ROUND((D16*0.84),2) -> 1.1887005e+08 | H16: =D16-G16 -> 22641915
A17: 5 | B17: г.Киселевск | C17: =31886.65-'2020 год'!E17-7183.6 -> 21507.527 | D17: =ROUND((C17*4611.33525),2) -> 99178416 | E17: =D17/36300 -> 2732.1878 | F17: =G17+H17 -> 99178416 | G17: =ROUND((D17*0.84),2) -> 83309870 | H17: =D17-G17 -> 15868547
A18: 6 | B18: Краснобродский | C18: =339.5+754.3 -> 1093.8 | D18: =E18*36368 -> 12357846 | E18: 339.8 | F18: =G18+H18 -> 12357846 | G18: =ROUND((D18*0.84),2) -> 10380591 | H18: =D18-G18 -> 1977255.4
A19: 7 | B19: г.Ленинск-Кузнецкий | C19: =68460.7-'2020 год'!E19-5849.7 -> 55750.205 | D19: =ROUND((C19*4611.33525),2) -> 2.5708289e+08 | E19: =D19/36300 -> 7082.1732 | F19: =G19+H19 -> 2.5708289e+08 | G19: =ROUND((D19*0.84),2) -> 2.1594963e+08 | H19: =D19-G19 -> 41133262
A20: 8 | B20: г.Междуреченск | C20: 862.9 | D20: =E20*36368 -> 31381947 | E20: 862.9 | F20: =G20+H20 -> 31381947 | G20: =ROUND((D20*0.84),2) -> 26360836 | H20: =D20-G20 -> 5021111.6
A21: 9 | B21: г.Мыски | C21: =4590.6-'2020 год'!E21-406.4 -> 3724.1526 | D21: =ROUND((C21*4611.33525),2) -> 17173316 | E21: =D21/36300 -> 473.09412 | F21: =G21+H21 -> 17173316 | G21: =ROUND((D21*0.84),2) -> 14425586 | H21: =D21-G21 -> 2747730.6
A22: 10 | B22: г.Новокузнецк | C22: =87542.01-'2020 год'!E22-9529.6 -> 69798.609 | D22: =ROUND((C22*4611.33525),2) -> 3.2186479e+08 | E22: =D22/36300 -> 8866.7985 | F22: =G22+H22 -> 3.2186479e+08 | G22: =ROUND((D22*0.8125),2) -> 2.6151514e+08 | H22: =D22-G22 -> 60349647
A23: 11 | B23: г.Осинники | C23: =14317.3-'2020 год'!E23-1224.3 -> 11658.191 | D23: =ROUND((C23*4611.33525),2) -> 53759825 | E23: =D23/36300 -> 1480.9869 | F23: =G23+H23 -> 53759825 | G23: =ROUND((D23*0.84),2) -> 45158253 | H23: =D23-G23 -> 8601572
A24: 12 | B24: г.Полысаево | C24: =8260.2-'2020 год'!E24-769.9 -> 6662.5034 | D24: =ROUND((C24*4611.33525),2) -> 30723037 | E24: =D24/36300 -> 846.36465 | F24: =G24+H24 -> 30723037 | G24: =ROUND((D24*0.84),2) -> 25807351 | H24: =D24-G24 -> 4915685.9
A25: 13 | B25: г.Прокопьевск | C25: =25086.13-'2020 год'!E25-2366.1 -> 20206.021 | D25: =ROUND((C25*4611.33525),2) -> 93176739 | E25: =D25/36300 -> 2566.8523 | F25: =G25+H25 -> 93176739 | G25: =ROUND((D25*0.84),2) -> 78268461 | H25: =D25-G25 -> 14908278
A26: 14 | B26: г.Тайга | C26: =3800.1-'2020 год'!E26-396.6 -> 3022.6727 | D26: =ROUND((C26*4611.33525),2) -> 13938557 | E26: =D26/36300 -> 383.98229 | F26: =G26+H26 -> 13938557 | G26: =ROUND((D26*0.84),2) -> 11708388 | H26: =D26-G26 -> 2230169.1
A27: 15 | B27: г.Юрга | C27: =97717.8-'2020 год'!E27-8114.9 -> 81044.175 | D27: =ROUND((C27*4611.33525),2) -> 3.7372186e+08 | E27: =D27/36300 -> 10295.368 | F27: =G27+H27 -> 3.7372186e+08 | G27: =ROUND((D27*0.84),2) -> 3.1392636e+08 | H27: =D27-G27 -> 59795498
A28: 16 | B28: Гурьевский район | C28: =4796.35-'2020 год'!E28-637.11 -> 3678.5734 | D28: =ROUND((C28*4611.33525),2) -> 16963135 | E28: =D28/36300 -> 467.304 | F28: =G28+H28 -> 16963135 | G28: =ROUND((D28*0.84),2) -> 14249034 | H28: =D28-G28 -> 2714101.6
A29: 17 | B29: Кемеровский район | C29: =2246.67-'2020 год'!E29-232.77 -> 1788.7498 | D29: =ROUND((C29*4611.33525),2) -> 8248524.9 | E29: =D29/36300 -> 227.23209 | F29: =G29+H29 -> 8248524.9 | G29: =ROUND((D29*0.84),2) -> 6928760.9 | H29: =D29-G29 -> 1319764
A30: 18 | B30: Мариинский район | C30: =4396.2-'2020 год'!E31-564.5 -> 3391.1345 | D30: =ROUND((C30*4611.33525),2) -> 15637658 | E30: =D30/36300 -> 430.78947 | F30: =G30+H30 -> 15637658 | G30: =ROUND((D30*0.84),2) -> 13135633 | H30: =D30-G30 -> 2502025.3
A31: 19 | B31: Новокузнецкий район | C31: =2015.5-'2020 год'!E32-258.6 -> 1554.9165 | D31: =ROUND((C31*4611.33525),2) -> 7170241.3 | E31: =D31/36300 -> 197.52731 | F31: =G31+H31 -> 7170241.3 | G31: =ROUND((D31*0.84),2) -> 6023002.7 | H31: =D31-G31 -> 1147238.6
A32: 20 | B32: Промышленновский район | C32: =2717.16-'2020 год'!E33-192.9 -> 2251.9596 | D32: =ROUND((C32*4611.33525),2) -> 10384541 | E32: =D32/36300 -> 286.0755 | F32: =G32+H32 -> 10384541 | G32: =ROUND((D32*0.84),2) -> 8723014.1 | H32: =D32-G32 -> 1661526.5
A33: 21 | B33: Таштагольский район | C33: =15257.4-'2020 год'!E34-1277.1 -> 12451.278 | D33: =ROUND((C33*4611.33525),2) -> 57417019 | E33: =D33/36300 -> 1581.7361 | F33: =G33+H33 -> 57417019 | G33: =ROUND((D33*0.84),2) -> 48230296 | H33: =D33-G33 -> 9186723
A34: 22 | B34: Топкинский район | C34: =8229.99-'2020 год'!E35-695.1 -> 6710.1209 | D34: =ROUND((C34*4611.33525),2) -> 30942617 | E34: =D34/36300 -> 852.41369 | F34: =G34+H34 -> 30942617 | G34: =ROUND((D34*0.84),2) -> 25991798 | H34: =D34-G34 -> 4950818.7
A35: 23 | B35: Тяжинский район | C35: 452.2 | D35: =E35*36368 -> 16445610 | E35: 452.2 | F35: =G35+H35 -> 16445610 | G35: =ROUND((D35*0.84),2) -> 13814312 | H35: =D35-G35 -> 2631297.5
A36: 24 | B36: Яйский район | C36: =3018.44-'2020 год'!E38-263.3 -> 2452.6468 | D36: =ROUND((C36*4611.33525),2) -> 11309977 | E36: =D36/36300 -> 311.5696 | F36: =G36+H36 -> 11309977 | G36: =ROUND((D36*0.84),2) -> 9500380.3 | H36: =D36-G36 -> 1809596.3

Sheet 2022
A2: Информация о лимитах предоставления финансовой поддержки и минимальной площади жилых помещений подлежащих расселению по этапу 2022 года
D5: 15570.665 | E5: =F7/36368 -> 145113.01 | F5: =(E7+E6)/36368 -> 145867.01
D6: =E7/F7*100 -> 14.5151 | E6: 4538861300 | F6: =F7/C7 -> 15570.665
C7: =C12-C18 -> 338936.7 | E7: 766030000 | F7: =E6+E7-D18 -> 5277469828
A8: № п/п | B8: Наименование муниципального образования | C8: Всего площадь аварийных МКД до 01.01.17 | E8: Минимальная площадь жилых помещений подлежащих расселению по этапу 2020 года | F8: Всего | G8: в том числе:
G9: средства Фонда | H9: средства областного бюджета
E11: кв.м. | F11: рублей | G11: рублей | H11: рублей
B12: Всего: | C12: =SUM(C13:C34) -> 339690.7 | D12: =SUM(D13:D34) -> 5.3048912e+09 | E12: =SUM(E13:E34) -> 146138.84 | F12: =SUM(F13:F34) -> 5.3048912e+09 | G12: =SUM(G13:G34) -> 4.430018e+09 | H12: =SUM(H13:H34) -> 8.7487318e+08
A13: 1 | B13: г.Анжеро-Судженск | C13: =44963.35-'2020 год'!E13-3825.7-'2021'!E13 -> 31978.179 | D13: =ROUND((C13*15570.66524),2) -> 4.9792152e+08 | E13: =D13/36300 -> 13716.846 | F13: =G13+H13 -> 4.9792152e+08 | G13: =ROUND((D13*0.84),2) -> 4.1825408e+08 | H13: =D13-G13 -> 79667443
A14: 2 | B14: г.Белово | C14: =3448.6-'2020 год'!E14-821.2-'2021'!E14 -> 1991.9322 | D14: =ROUND((C14*15570.66524),2) -> 31015710 | E14: =D14/36300 -> 854.42728 | F14: =G14+H14 -> 31015710 | G14: =ROUND((D14*0.84),2) -> 26053197 | H14: =D14-G14 -> 4962513.6
A15: 3 | B15: г.Калтан | C15: =13516.61-'2020 год'!E15-1158-'2021'!E15 -> 9606.1541 | D15: =ROUND((C15*15570.66524),2) -> 1.4957421e+08 | E15: =D15/36300 -> 4120.5016 | F15: =G15+H15 -> 1.4957421e+08 | G15: =ROUND((D15*0.84),2) -> 1.2564234e+08 | H15: =D15-G15 -> 23931873
A16: 4 | B16: г.Кемерово | C16: =37934.9-'2020 год'!E16-3445.4-'2021'!E16 -> 26789.45 | D16: =ROUND((C16*15570.66524),2) -> 4.1712955e+08 | E16: =D16/36300 -> 11491.172 | F16: =G16+H16 -> 4.1712955e+08 | G16: =ROUND((D16*0.84),2) -> 3.5038882e+08 | H16: =D16-G16 -> 66740728
A17: 5 | B17: г.Киселевск | C17: =31886.65-'2020 год'!E17-7183.6-'2021'!E17 -> 18775.339 | D17: =ROUND((C17*15570.66524),2) -> 2.9234452e+08 | E17: =D17/36300 -> 8053.568 | F17: =G17+H17 -> 2.9234452e+08 | G17: =ROUND((D17*0.84),2) -> 2.455694e+08 | H17: =D17-G17 -> 46775123
A18: 6 | B18: Краснобродский | C18: =339.5+754.3-'2021'!E18 -> 754 | D18: =E18*36368 -> 27421472 | E18: 754 | F18: =G18+H18 -> 27421472 | G18: =ROUND((D18*0.84),2) -> 23034036 | H18: =D18-G18 -> 4387435.5
A19: 7 | B19: г.Ленинск-Кузнецкий | C19: =68460.7-'2020 год'!E19-5849.7-'2021'!E19 -> 48668.032 | D19: =ROUND((C19*15570.66524),2) -> 7.5779364e+08 | E19: =D19/36300 -> 20875.858 | F19: =G19+H19 -> 7.5779364e+08 | G19: =ROUND((D19*0.84),2) -> 6.3654665e+08 | H19: =D19-G19 -> 1.2124698e+08
A20: 8 | B20: г.Мыски | C20: =4590.6-'2020 год'!E21-406.4-'2021'!E21 -> 3251.0585 | D20: =ROUND((C20*15570.66524),2) -> 50621144 | E20: =D20/36300 -> 1394.5219 | F20: =G20+H20 -> 50621144 | G20: =ROUND((D20*0.84),2) -> 42521761 | H20: =D20-G20 -> 8099383
A21: 9 | B21: г.Новокузнецк | C21: =87542.01-'2020 год'!E22-9529.6-'2021'!E22 -> 60931.81 | D21: =ROUND((C21*15570.66524),2) -> 9.4874882e+08 | E21: =D21/36300 -> 26136.331 | F21: =G21+H21 -> 9.4874882e+08 | G21: =ROUND((D21*0.8125),2) -> 7.7085842e+08 | H21: =D21-G21 -> 1.778904e+08
A22: 10 | B22: г.Осинники | C22: =14317.3-'2020 год'!E23-1224.3-'2021'!E23 -> 10177.204 | D22: =ROUND((C22*15570.66524),2) -> 1.5846583e+08 | E22: =D22/36300 -> 4365.4499 | F22: =G22+H22 -> 1.5846583e+08 | G22: =ROUND((D22*0.84),2) -> 1.331113e+08 | H22: =D22-G22 -> 25354533
A23: 11 | B23: г.Полысаево | C23: =8260.2-'2020 год'!E24-769.9-'2021'!E24 -> 5816.1387 | D23: =ROUND((C23*15570.66524),2) -> 90561149 | E23: =D23/36300 -> 2494.7975 | F23: =G23+H23 -> 90561149 | G23: =ROUND((D23*0.84),2) -> 76071365 | H23: =D23-G23 -> 14489784
A24: 12 | B24: г.Прокопьевск | C24: =25086.13-'2020 год'!E25-2366.1-'2021'!E25 -> 17639.169 | D24: =ROUND((C24*15570.66524),2) -> 2.746536e+08 | E24: =D24/36300 -> 7566.2148 | F24: =G24+H24 -> 2.746536e+08 | G24: =ROUND((D24*0.84),2) -> 2.3070902e+08 | H24: =D24-G24 -> 43944576
A25: 13 | B25: г.Тайга | C25: =3800.1-'2020 год'!E26-396.6-'2021'!E26 -> 2638.6904 | D25: =ROUND((C25*15570.66524),2) -> 41086165 | E25: =D25/36300 -> 1131.8503 | F25: =G25+H25 -> 41086165 | G25: =ROUND((D25*0.84),2) -> 34512378 | H25: =D25-G25 -> 6573786.3
A26: 14 | B26: г.Юрга | C26: =97717.8-'2020 год'!E27-8114.9-'2021'!E27 -> 70748.807 | D26: =ROUND((C26*15570.66524),2)-100 -> 1101605889 | E26: =D26/36300 -> 30347.27 | F26: =G26+H26 -> 1101605889 | G26: =ROUND((D26*0.84),2) -> 9.2534895e+08 | H26: =D26-G26 -> 1.7625694e+08
A27: 15 | B27: Гурьевский район | C27: =4796.35-'2020 год'!E28-637.11-'2021'!E28 -> 3211.2694 | D27: =ROUND((C27*15570.66524),2) -> 50001601 | E27: =D27/36300 -> 1377.4546 | F27: =G27+H27 -> 50001601 | G27: =ROUND((D27*0.84),2) -> 42001345 | H27: =D27-G27 -> 8000256.1
A28: 16 | B28: Кемеровский район | C28: =2246.67-'2020 год'!E29-232.77-'2021'!E29 -> 1561.5177 | D28: =ROUND((C28*15570.66524),2) -> 24313869 | E28: =D28/36300 -> 669.80356 | F28: =G28+H28 -> 24313869 | G28: =ROUND((D28*0.84),2) -> 20423650 | H28: =D28-G28 -> 3890219.1
A29: 17 | B29: Мариинский район | C29: =4396.2-'2020 год'!E31-564.5-'2021'!E30 -> 2960.345 | D29: =ROUND((C29*15570.66524),2) -> 46094541 | E29: =D29/36300 -> 1269.8221 | F29: =G29+H29 -> 46094541 | G29: =ROUND((D29*0.84),2) -> 38719414 | H29: =D29-G29 -> 7375126.5
A30: 18 | B30: Новокузнецкий район | C30: =2015.5-'2020 год'!E32-258.6-'2021'!E31 -> 1357.3892 | D30: =ROUND((C30*15570.66524),2) -> 21135453 | E30: =D30/36300 -> 582.24388 | F30: =G30+H30 -> 21135453 | G30: =ROUND((D30*0.84),2) -> 17753780 | H30: =D30-G30 -> 3381672.4
A31: 19 | B31: Промышленновский район | C31: =2717.16-'2020 год'!E33-192.9-'2021'!E32 -> 1965.8841 | D31: =ROUND((C31*15570.66524),2) -> 30610123 | E31: =D31/36300 -> 843.25408 | F31: =G31+H31 -> 30610123 | G31: =ROUND((D31*0.84),2) -> 25712503 | H31: =D31-G31 -> 4897619.7
A32: 20 | B32: Таштагольский район | C32: =15257.4-'2020 год'!E34-1277.1-'2021'!E33 -> 10869.542 | D32: =ROUND((C32*15570.66524),2) -> 1.6924601e+08 | E32: =D32/36300 -> 4662.4244 | F32: =G32+H32 -> 1.6924601e+08 | G32: =ROUND((D32*0.84),2) -> 1.4216664e+08 | H32: =D32-G32 -> 27079361
A33: 21 | B33: Топкинский район | C33: =8229.99-'2020 год'!E35-695.1-'2021'!E34 -> 5857.7072 | D33: =ROUND((C33*15570.66524),2) -> 91208398 | E33: =D33/36300 -> 2512.628 | F33: =G33+H33 -> 91208398 | G33: =ROUND((D33*0.84),2) -> 76615054 | H33: =D33-G33 -> 14593344
A34: 22 | B34: Яйский район | C34: =3018.44-'2020 год'!E38-263.3-'2021'!E36 -> 2141.0772 | D34: =ROUND((C34*15570.66524),2) -> 33337996 | E34: =D34/36300 -> 918.4021 | F34: =G34+H34 -> 33337996 | G34: =ROUND((D34*0.84),2) -> 28003917 | H34: =D34-G34 -> 5334079.4

Sheet 2023
A2: Информация о лимитах предоставления финансовой поддержки и минимальной площади жилых помещений подлежащих расселению по этапу 2023 года
D5: 27408.114 | E5: =F7/36368 -> 145867.01 | F5: =(E7+E6)/36368 -> 145867.01
D6: =E7/F7*100 -> 14.44007 | E6: 4538861300 | F6: =F7/C12 -> 27408.114
C7: =C12-#REF! -> #REF! | E7: 766030000 | F7: =E6+E7 -> 5304891300
A8: № п/п | B8: Наименование муниципального образования | C8: Всего площадь аварийных МКД до 01.01.17 | E8: Минимальная площадь жилых помещений подлежащих расселению по этапу 2020 года | F8: Всего | G8: в том числе:
G9: средства Фонда | H9: средства областного бюджета
E11: кв.м. | F11: рублей | G11: рублей | H11: рублей
B12: Всего: | C12: =SUM(C13:C33) -> 193551.85 | D12: =SUM(D13:D33) -> 5.3048912e+09 | E12: =SUM(E13:E33) -> 146140.25 | F12: =SUM(F13:F33) -> 5.3048912e+09 | G12: =SUM(G13:G33) -> 4.4298825e+09 | H12: =SUM(H13:H33) -> 8.7500875e+08
A13: 1 | B13: г.Анжеро-Судженск | C13: =44963.35-'2020 год'!E13-3825.7-'2021'!E13-'2022'!E13 -> 18261.333 | D13: =ROUND((C13*27408.11399),2) -> 5.0050869e+08 | E13: =D13/36300 -> 13788.118 | F13: =G13+H13 -> 5.0050869e+08 | G13: =ROUND((D13*0.84),2) -> 4.204273e+08 | H13: =D13-G13 -> 80081390
A14: 2 | B14: г.Белово | C14: =3448.6-'2020 год'!E14-821.2-'2021'!E14-'2022'!E14 -> 1137.505 | D14: =ROUND((C14*27408.11399),2) -> 31176866 | E14: =D14/36300 -> 858.86683 | F14: =G14+H14 -> 31176866 | G14: =ROUND((D14*0.84),2) -> 26188567 | H14: =D14-G14 -> 4988298.5
A15: 3 | B15: г.Калтан | C15: =13516.61-'2020 год'!E15-1158-'2021'!E15-'2022'!E15 -> 5485.6524 | D15: =ROUND((C15*27408.11399),2) -> 1.5035139e+08 | E15: =D15/36300 -> 4141.9115 | F15: =G15+H15 -> 1.5035139e+08 | G15: =ROUND((D15*0.84),2) -> 1.2629517e+08 | H15: =D15-G15 -> 24056222
A16: 4 | B16: г.Кемерово | C16: =37934.9-'2020 год'!E16-3445.4-'2021'!E16-'2022'!E16 -> 15298.277 | D16: =ROUND((C16*27408.11399),2) -> 4.1929693e+08 | E16: =D16/36300 -> 11550.88 | F16: =G16+H16 -> 4.1929693e+08 | G16: =ROUND((D16*0.84),2) -> 3.5220942e+08 | H16: =D16-G16 -> 67087509
A17: 5 | B17: г.Киселевск | C17: =31886.65-'2020 год'!E17-7183.6-'2021'!E17-'2022'!E17 -> 10721.771 | D17: =ROUND((C17*27408.11399),2) -> 2.9386352e+08 | E17: =D17/36300 -> 8095.4138 | F17: =G17+H17 -> 2.9386352e+08 | G17: =ROUND((D17*0.84),2) -> 2.4684536e+08 | H17: =D17-G17 -> 47018163
A18: 7 | B18: г.Ленинск-Кузнецкий | C18: =68460.7-'2020 год'!E19-5849.7-'2021'!E19-'2022'!E19 -> 27792.174 | D18: =ROUND((C18*27408.11399),2) -> 7.6173108e+08 | E18: =D18/36300 -> 20984.327 | F18: =G18+H18 -> 7.6173108e+08 | G18: =ROUND((D18*0.84),2) -> 6.3985411e+08 | H18: =D18-G18 -> 1.2187697e+08
A19: 8 | B19: г.Мыски | C19: =4590.6-'2020 год'!E21-406.4-'2021'!E21-'2022'!E20 -> 1856.5367 | D19: =ROUND((C19*27408.11399),2) -> 50884168 | E19: =D19/36300 -> 1401.7677 | F19: =G19+H19 -> 50884168 | G19: =ROUND((D19*0.84),2) -> 42742701 | H19: =D19-G19 -> 8141466.9
A20: 9 | B20: г.Новокузнецк | C20: =87542.01-'2020 год'!E22-9529.6-'2021'!E22-'2022'!E21 -> 34795.479 | D20: =ROUND((C20*27408.11399),2) -> 9.5367846e+08 | E20: =D20/36300 -> 26272.134 | F20: =G20+H20 -> 9.5367846e+08 | G20: =ROUND((D20*0.8125),2) -> 7.7486375e+08 | H20: =D20-G20 -> 1.7881471e+08
A21: 10 | B21: г.Осинники | C21: =14317.3-'2020 год'!E23-1224.3-'2021'!E23-'2022'!E22 -> 5811.7538 | D21: =ROUND((C21*27408.11399),2) -> 1.5928921e+08 | E21: =D21/36300 -> 4388.1325 | F21: =G21+H21 -> 1.5928921e+08 | G21: =ROUND((D21*0.84),2) -> 1.3380294e+08 | H21: =D21-G21 -> 25486274
A22: 11 | B22: г.Полысаево | C22: =8260.2-'2020 год'!E24-769.9-'2021'!E24-'2022'!E23 -> 3321.3412 | D22: =ROUND((C22*27408.11399),2) -> 91031699 | E22: =D22/36300 -> 2507.7603 | F22: =G22+H22 -> 91031699 | G22: =ROUND((D22*0.84),2) -> 76466627 | H22: =D22-G22 -> 14565072
A23: 12 | B23: г.Прокопьевск | C23: =25086.13-'2020 год'!E25-2366.1-'2021'!E25-'2022'!E24 -> 10072.954 | D23: =ROUND((C23*27408.11399),2) -> 2.7608068e+08 | E23: =D23/36300 -> 7605.5284 | F23: =G23+H23 -> 2.7608068e+08 | G23: =ROUND((D23*0.84),2) -> 2.3190777e+08 | H23: =D23-G23 -> 44172909
A24: 13 | B24: г.Тайга | C24: =3800.1-'2020 год'!E26-396.6-'2021'!E26-'2022'!E25 -> 1506.8401 | D24: =ROUND((C24*27408.11399),2) -> 41299646 | E24: =D24/36300 -> 1137.7313 | F24: =G24+H24 -> 41299646 | G24: =ROUND((D24*0.84),2) -> 34691702 | H24: =D24-G24 -> 6607943.3
A25: 14 | B25: г.Юрга | C25: =97717.8-'2020 год'!E27-8114.9-'2021'!E27-'2022'!E26 -> 40401.537 | D25: =ROUND((C25*27408.11399),2)-100 -> 1.1073298e+09 | E25: =D25/36300 -> 30504.954 | F25: =G25+H25 -> 1.1073298e+09 | G25: =ROUND((D25*0.84),2) -> 9.3015706e+08 | H25: =D25-G25 -> 1.7717277e+08
A26: 15 | B26: Гурьевский район | C26: =4796.35-'2020 год'!E28-637.11-'2021'!E28-'2022'!E27 -> 1833.8148 | D26: =ROUND((C26*27408.11399),2) -> 50261406 | E26: =D26/36300 -> 1384.6117 | F26: =G26+H26 -> 50261406 | G26: =ROUND((D26*0.84),2) -> 42219581 | H26: =D26-G26 -> 8041824.9
A27: 16 | B27: Кемеровский район | C27: =2246.67-'2020 год'!E29-232.77-'2021'!E29-'2022'!E28 -> 891.71413 | D27: =ROUND((C27*27408.11399),2) -> 24440203 | E27: =D27/36300 -> 673.28382 | F27: =G27+H27 -> 24440203 | G27: =ROUND((D27*0.84),2) -> 20529770 | H27: =D27-G27 -> 3910432.4
A28: 17 | B28: Мариинский район | C28: =4396.2-'2020 год'!E31-564.5-'2021'!E30-'2022'!E29 -> 1690.5229 | D28: =ROUND((C28*27408.11399),2) -> 46334045 | E28: =D28/36300 -> 1276.42 | F28: =G28+H28 -> 46334045 | G28: =ROUND((D28*0.84),2) -> 38920598 | H28: =D28-G28 -> 7413447.2
A29: 18 | B29: Новокузнецкий район | C29: =2015.5-'2020 год'!E32-258.6-'2021'!E31-'2022'!E30 -> 775.14532 | D29: =ROUND((C29*27408.11399),2) -> 21245271 | E29: =D29/36300 -> 585.26918 | F29: =G29+H29 -> 21245271 | G29: =ROUND((D29*0.84),2) -> 17846028 | H29: =D29-G29 -> 3399243.4
A30: 19 | B30: Промышленновский район | C30: =2717.16-'2020 год'!E33-192.9-'2021'!E32-'2022'!E31 -> 1122.63 | D30: =ROUND((C30*27408.11399),2) -> 30769171 | E30: =D30/36300 -> 847.63557 | F30: =G30+H30 -> 30769171 | G30: =ROUND((D30*0.84),2) -> 25846104 | H30: =D30-G30 -> 4923067.4
A31: 20 | B31: Таштагольский район | C31: =15257.4-'2020 год'!E34-1277.1-'2021'!E33-'2022'!E32 -> 6207.118 | D31: =ROUND((C31*27408.11399),2) -> 1.701254e+08 | E31: =D31/36300 -> 4686.65 | F31: =G31+H31 -> 1.701254e+08 | G31: =ROUND((D31*0.84),2) -> 1.4290533e+08 | H31: =D31-G31 -> 27220063
A32: 21 | B32: Топкинский район | C32: =8229.99-'2020 год'!E35-695.1-'2021'!E34-'2022'!E33 -> 3345.0792 | D32: =ROUND((C32*27408.11399),2) -> 91682311 | E32: =D32/36300 -> 2525.6835 | F32: =G32+H32 -> 91682311 | G32: =ROUND((D32*0.84),2) -> 77013141 | H32: =D32-G32 -> 14669170
A33: 22 | B33: Яйский район | C33: =3018.44-'2020 год'!E38-263.3-'2021'!E36-'2022'!E34 -> 1222.6751 | D33: =ROUND((C33*27408.11399),2) -> 33511218 | E33: =D33/36300 -> 923.17406 | F33: =G33+H33 -> 33511218 | G33: =ROUND((D33*0.84),2) -> 28149423 | H33: =D33-G33 -> 5361794.9

Sheet 2024
A2: Информация о лимитах предоставления финансовой поддержки и минимальной площади жилых помещений подлежащих расселению по этапу 2024 года
C5: 36368 | D5: 27408.114 | E5: =F7/36368 -> 145867.01 | F5: =(E7+E6)/36368 -> 145867.01
D6: =E7/F7*100 -> 14.44007 | E6: 4538861300 | F6: =F7/C12 -> 111890.15
C7: =C12-#REF! -> #REF! | E7: 766030000 | F7: =E6+E7 -> 5304891300
A8: № п/п | B8: Наименование муниципального образования | C8: Всего площадь аварийных МКД до 01.01.17 | E8: Минимальная площадь жилых помещений подлежащих расселению по этапу 2020 года | F8: Всего | G8: в том числе:
G9: средства Фонда | H9: средства областного бюджета
E11: кв.м. | F11: рублей | G11: рублей | H11: рублей
B12: Всего: | C12: =SUM(C13:C33) -> 47411.601 | D12: =SUM(D13:D33) -> 1.7242651e+09 | E12: =SUM(E13:E33) -> 47411.601 | F12: =SUM(F13:F33) -> 1.7242651e+09 | G12: =SUM(G13:G33) -> 1.4398583e+09 | H12: =SUM(H13:H33) -> 2.8440679e+08
A13: 1 | B13: г.Анжеро-Судженск | C13: =44963.35-'2020 год'!E13-3825.7-'2021'!E13-'2022'!E13-'2023'!E13 -> 4473.2146 | D13: =ROUND((C13*36368),2) -> 1.6268187e+08 | E13: =C13 -> 4473.2146 | F13: =G13+H13 -> 1.6268187e+08 | G13: =ROUND((D13*0.84),2) -> 1.3665277e+08 | H13: =D13-G13 -> 26029099
A14: 2 | B14: г.Белово | C14: =3448.6-'2020 год'!E14-821.2-'2021'!E14-'2022'!E14-'2023'!E14 -> 278.63814 | D14: =ROUND((C14*36368),2) -> 10133512 | E14: =C14 -> 278.63814 | F14: =G14+H14 -> 10133512 | G14: =ROUND((D14*0.84),2) -> 8512150 | H14: =D14-G14 -> 1621361.9
A15: 3 | B15: г.Калтан | C15: =13516.61-'2020 год'!E15-1158-'2021'!E15-'2022'!E15-'2023'!E15 -> 1343.7409 | D15: =ROUND((C15*36368),2) -> 48869170 | E15: =C15 -> 1343.7409 | F15: =G15+H15 -> 48869170 | G15: =ROUND((D15*0.84),2) -> 41050103 | H15: =D15-G15 -> 7819067.3
A16: 4 | B16: г.Кемерово | C16: =37934.9-'2020 год'!E16-3445.4-'2021'!E16-'2022'!E16-'2023'!E16 -> 3747.3978 | D16: =ROUND((C16*36368),2) -> 1.3628536e+08 | E16: =C16 -> 3747.3978 | F16: =G16+H16 -> 1.3628536e+08 | G16: =ROUND((D16*0.84),2) -> 1.144797e+08 | H16: =D16-G16 -> 21805658
A17: 5 | B17: г.Киселевск | C17: =31886.65-'2020 год'!E17-7183.6-'2021'!E17-'2022'!E17-'2023'!E17 -> 2626.3572 | D17: =ROUND((C17*36368),2) -> 95515358 | E17: =C17 -> 2626.3572 | F17: =G17+H17 -> 95515358 | G17: =ROUND((D17*0.84),2) -> 80232901 | H17: =D17-G17 -> 15282457
A18: 7 | B18: г.Ленинск-Кузнецкий | C18: =68460.7-'2020 год'!E19-5849.7-'2021'!E19-'2022'!E19-'2023'!E18 -> 6807.847 | D18: =ROUND((C18*36368),2) -> 2.4758778e+08 | E18: =C18 -> 6807.847 | F18: =G18+H18 -> 2.4758778e+08 | G18: =ROUND((D18*0.84),2) -> 2.0797374e+08 | H18: =D18-G18 -> 39614045
A19: 8 | B19: г.Мыски | C19: =4590.6-'2020 год'!E21-406.4-'2021'!E21-'2022'!E20-'2023'!E19 -> 454.76893 | D19: =ROUND((C19*36368),2) -> 16539037 | E19: =C19 -> 454.76893 | F19: =G19+H19 -> 16539037 | G19: =ROUND((D19*0.84),2) -> 13892791 | H19: =D19-G19 -> 2646245.9
A20: 9 | B20: г.Новокузнецк | C20: =87542.01-'2020 год'!E22-9529.6-'2021'!E22-'2022'!E21-'2023'!E20 -> 8523.3453 | D20: =ROUND((C20*36368),2) -> 3.0997702e+08 | E20: =C20 -> 8523.3453 | F20: =G20+H20 -> 3.0997702e+08 | G20: =ROUND((D20*0.8125),2) -> 2.5185633e+08 | H20: =D20-G20 -> 58120692
A21: 10 | B21: г.Осинники | C21: =14317.3-'2020 год'!E23-1224.3-'2021'!E23-'2022'!E22-'2023'!E21 -> 1423.6213 | D21: =ROUND((C21*36368),2) -> 51774258 | E21: =C21 -> 1423.6213 | F21: =G21+H21 -> 51774258 | G21: =ROUND((D21*0.84),2) -> 43490377 | H21: =D21-G21 -> 8283881.3
A22: 11 | B22: г.Полысаево | C22: =8260.2-'2020 год'!E24-769.9-'2021'!E24-'2022'!E23-'2023'!E22 -> 813.58093 | D22: =ROUND((C22*36368),2) -> 29588311 | E22: =C22 -> 813.58093 | F22: =G22+H22 -> 29588311 | G22: =ROUND((D22*0.84),2) -> 24854181 | H22: =D22-G22 -> 4734129.8
A23: 12 | B23: г.Прокопьевск | C23: =25086.13-'2020 год'!E25-2366.1-'2021'!E25-'2022'!E24-'2023'!E23 -> 2467.4259 | D23: =ROUND((C23*36368),2) -> 89735347 | E23: =C23 -> 2467.4259 | F23: =G23+H23 -> 89735347 | G23: =ROUND((D23*0.84),2) -> 75377691 | H23: =D23-G23 -> 14357655
A24: 13 | B24: г.Тайга | C24: =3800.1-'2020 год'!E26-396.6-'2021'!E26-'2022'!E25-'2023'!E24 -> 369.10883 | D24: =ROUND((C24*36368),2) -> 13423750 | E24: =C24 -> 369.10883 | F24: =G24+H24 -> 13423750 | G24: =ROUND((D24*0.84),2) -> 11275950 | H24: =D24-G24 -> 2147800
A25: 14 | B25: г.Юрга | C25: =97717.8-'2020 год'!E27-8114.9-'2021'!E27-'2022'!E26-'2023'!E25 -> 9896.583 | D25: =ROUND((C25*36368),2) -> 3.5991893e+08 | E25: =C25 -> 9896.583 | F25: =G25+H25 -> 3.5991893e+08 | G25: =ROUND((D25*0.84),2) -> 3.023319e+08 | H25: =D25-G25 -> 57587029
A26: 15 | B26: Гурьевский район | C26: =4796.35-'2020 год'!E28-637.11-'2021'!E28-'2022'!E27-'2023'!E26 -> 449.2031 | D26: =ROUND((C26*36368),2) -> 16336618 | E26: =C26 -> 449.2031 | F26: =G26+H26 -> 16336618 | G26: =ROUND((D26*0.84),2) -> 13722759 | H26: =D26-G26 -> 2613858.9
A27: 16 | B27: Кемеровский район | C27: =2246.67-'2020 год'!E29-232.77-'2021'!E29-'2022'!E28-'2023'!E27 -> 218.43031 | D27: =ROUND((C27*36368),2) -> 7943873.7 | E27: =C27 -> 218.43031 | F27: =G27+H27 -> 7943873.7 | G27: =ROUND((D27*0.84),2) -> 6672853.9 | H27: =D27-G27 -> 1271019.8
A28: 17 | B28: Мариинский район | C28: =4396.2-'2020 год'!E31-564.5-'2021'!E30-'2022'!E29-'2023'!E28 -> 414.10295 | D28: =ROUND((C28*36368),2) -> 15060096 | E28: =C28 -> 414.10295 | F28: =G28+H28 -> 15060096 | G28: =ROUND((D28*0.84),2) -> 12650481 | H28: =D28-G28 -> 2409615.4
A29: 18 | B29: Новокузнецкий район | C29: =2015.5-'2020 год'!E32-258.6-'2021'!E31-'2022'!E30-'2023'!E29 -> 189.87614 | D29: =ROUND((C29*36368),2) -> 6905415.4 | E29: =C29 -> 189.87614 | F29: =G29+H29 -> 6905415.4 | G29: =ROUND((D29*0.84),2) -> 5800548.9 | H29: =D29-G29 -> 1104866.5
A30: 19 | B30: Промышленновский район | C30: =2717.16-'2020 год'!E33-192.9-'2021'!E32-'2022'!E31-'2023'!E30 -> 274.99444 | D30: =ROUND((C30*36368),2) -> 10000998 | E30: =C30 -> 274.99444 | F30: =G30+H30 -> 10000998 | G30: =ROUND((D30*0.84),2) -> 8400838.1 | H30: =D30-G30 -> 1600159.6
A31: 20 | B31: Таштагольский район | C31: =15257.4-'2020 год'!E34-1277.1-'2021'!E33-'2022'!E32-'2023'!E31 -> 1520.4679 | D31: =ROUND((C31*36368),2) -> 55296377 | E31: =C31 -> 1520.4679 | F31: =G31+H31 -> 55296377 | G31: =ROUND((D31*0.84),2) -> 46448957 | H31: =D31-G31 -> 8847420.4
A32: 21 | B32: Топкинский район | C32: =8229.99-'2020 год'!E35-695.1-'2021'!E34-'2022'!E33-'2023'!E32 -> 819.39566 | D32: =ROUND((C32*36368),2) -> 29799781 | E32: =C32 -> 819.39566 | F32: =G32+H32 -> 29799781 | G32: =ROUND((D32*0.84),2) -> 25031816 | H32: =D32-G32 -> 4767965
A33: 22 | B33: Яйский район | C33: =3018.44-'2020 год'!E38-263.3-'2021'!E36-'2022'!E34-'2023'!E33 -> 299.50103 | D33: =ROUND((C33*36368),2) -> 10892254 | E33: =C33 -> 299.50103 | F33: =G33+H33 -> 10892254 | G33: =ROUND((D33*0.84),2) -> 9149493 | H33: =D33-G33 -> 1742760.6

Sheet Лист2
